BEGIN:VCALENDAR
VERSION:2.0
PRODID:-//Syndicat de Champlain - ECPv5.14.0.4//NONSGML v1.0//EN
CALSCALE:GREGORIAN
METHOD:PUBLISH
X-WR-CALNAME:Syndicat de Champlain
X-ORIGINAL-URL:https://www.syndicatchamplain.com
X-WR-CALDESC:évènements pour Syndicat de Champlain
BEGIN:VTIMEZONE
TZID:America/Toronto
BEGIN:DAYLIGHT
TZOFFSETFROM:-0500
TZOFFSETTO:-0400
TZNAME:EDT
DTSTART:20190310T070000
END:DAYLIGHT
BEGIN:STANDARD
TZOFFSETFROM:-0400
TZOFFSETTO:-0500
TZNAME:EST
DTSTART:20191103T060000
END:STANDARD
END:VTIMEZONE
BEGIN:VEVENT
DTSTART;TZID=America/Toronto:20190506T000000
DTEND;TZID=America/Toronto:20190506T000000
DTSTAMP:20260421T083221
CREATED:20190417T172933Z
LAST-MODIFIED:20190417T172933Z
UID:5570-1557100800-1557100800@www.syndicatchamplain.com
SUMMARY:Assemblée de consultation pour la négo locale - section des Patriotes (enseignant)
DESCRIPTION:à l’école secondaire De Mortagne (amphithéâtre de l’aile F)\nà 15 h et à 16 h 30
URL:https://www.syndicatchamplain.com/event/assemblee-de-consultation-pour-la-nego-locale-section-des-patriotes-enseignant-3/
END:VEVENT
END:VCALENDAR