BEGIN:VCALENDAR
VERSION:2.0
PRODID:-//Syndicat de Champlain - ECPv5.14.0.4//NONSGML v1.0//EN
CALSCALE:GREGORIAN
METHOD:PUBLISH
X-WR-CALNAME:Syndicat de Champlain
X-ORIGINAL-URL:https://www.syndicatchamplain.com
X-WR-CALDESC:évènements pour Syndicat de Champlain
BEGIN:VTIMEZONE
TZID:America/Toronto
BEGIN:DAYLIGHT
TZOFFSETFROM:-0500
TZOFFSETTO:-0400
TZNAME:EDT
DTSTART:20230312T070000
END:DAYLIGHT
BEGIN:STANDARD
TZOFFSETFROM:-0400
TZOFFSETTO:-0500
TZNAME:EST
DTSTART:20231105T060000
END:STANDARD
END:VTIMEZONE
BEGIN:VEVENT
DTSTART;TZID=America/Toronto:20230923T130000
DTEND;TZID=America/Toronto:20230923T170000
DTSTAMP:20260420T123941
CREATED:20230926T180908Z
LAST-MODIFIED:20230926T180908Z
UID:18524-1695474000-1695488400@www.syndicatchamplain.com
SUMMARY:Manifestation historique du Front commun
DESCRIPTION:
URL:https://www.syndicatchamplain.com/event/manifestation-historique-du-front-commun/
LOCATION:Montréal
CATEGORIES:Négociation
ATTACH;FMTTYPE=image/png:https://www.syndicatchamplain.com/wp-content/uploads/2023/06/marche-historique-front-commun-1.png
END:VEVENT
END:VCALENDAR