BEGIN:VCALENDAR
VERSION:2.0
PRODID:-//Syndicat de Champlain - ECPv5.14.0.4//NONSGML v1.0//EN
CALSCALE:GREGORIAN
METHOD:PUBLISH
X-WR-CALNAME:Syndicat de Champlain
X-ORIGINAL-URL:https://www.syndicatchamplain.com
X-WR-CALDESC:évènements pour Syndicat de Champlain
BEGIN:VTIMEZONE
TZID:America/Toronto
BEGIN:DAYLIGHT
TZOFFSETFROM:-0500
TZOFFSETTO:-0400
TZNAME:EDT
DTSTART:20210314T070000
END:DAYLIGHT
BEGIN:STANDARD
TZOFFSETFROM:-0400
TZOFFSETTO:-0500
TZNAME:EST
DTSTART:20211107T060000
END:STANDARD
END:VTIMEZONE
BEGIN:VEVENT
DTSTART;TZID=America/Toronto:20210505T160000
DTEND;TZID=America/Toronto:20210505T160000
DTSTAMP:20260419T175126
CREATED:20210330T184947Z
LAST-MODIFIED:20210330T184947Z
UID:11331-1620230400-1620230400@www.syndicatchamplain.com
SUMMARY:Rencontre d'information pour les enseignants à statut précaire et les stagiaires - DP
DESCRIPTION:
URL:https://www.syndicatchamplain.com/event/rencontre-dinformation-pour-les-enseignants-a-statut-precaire-et-les-stagiaires-dp-2/
LOCATION:Visioconférence\, Canada
CATEGORIES:Formation
END:VEVENT
END:VCALENDAR