BEGIN:VCALENDAR
VERSION:2.0
PRODID:-//Syndicat de Champlain - ECPv5.14.0.4//NONSGML v1.0//EN
CALSCALE:GREGORIAN
METHOD:PUBLISH
X-WR-CALNAME:Syndicat de Champlain
X-ORIGINAL-URL:https://www.syndicatchamplain.com
X-WR-CALDESC:évènements pour Syndicat de Champlain
BEGIN:VTIMEZONE
TZID:America/Toronto
BEGIN:DAYLIGHT
TZOFFSETFROM:-0500
TZOFFSETTO:-0400
TZNAME:EDT
DTSTART:20250309T070000
END:DAYLIGHT
BEGIN:STANDARD
TZOFFSETFROM:-0400
TZOFFSETTO:-0500
TZNAME:EST
DTSTART:20251102T060000
END:STANDARD
END:VTIMEZONE
BEGIN:VEVENT
DTSTART;TZID=America/Toronto:20250415T163000
DTEND;TZID=America/Toronto:20250415T203000
DTSTAMP:20260420T055558
CREATED:20250212T182631Z
LAST-MODIFIED:20250212T182631Z
UID:23336-1744734600-1744749000@www.syndicatchamplain.com
SUMMARY:Rencontre d'information pour les enseignants à statut précaire et les stagiaires du CSSP
DESCRIPTION:
URL:https://www.syndicatchamplain.com/event/rencontre-dinformation-pour-les-enseignants-a-statut-precaire-et-les-stagiaires-du-cssp-2/
LOCATION:Syndicat de Champlain\, 7500\, chemin de Chambly\, Saint-Hubert\, Québec\, J3Y 3S6\, Canada
CATEGORIES:Formation
END:VEVENT
END:VCALENDAR