BEGIN:VCALENDAR
VERSION:2.0
PRODID:-//Syndicat de Champlain - ECPv5.14.0.4//NONSGML v1.0//EN
CALSCALE:GREGORIAN
METHOD:PUBLISH
X-WR-CALNAME:Syndicat de Champlain
X-ORIGINAL-URL:https://www.syndicatchamplain.com
X-WR-CALDESC:évènements pour Syndicat de Champlain
BEGIN:VTIMEZONE
TZID:America/Toronto
BEGIN:DAYLIGHT
TZOFFSETFROM:-0500
TZOFFSETTO:-0400
TZNAME:EDT
DTSTART:20240310T070000
END:DAYLIGHT
BEGIN:STANDARD
TZOFFSETFROM:-0400
TZOFFSETTO:-0500
TZNAME:EST
DTSTART:20241103T060000
END:STANDARD
END:VTIMEZONE
BEGIN:VEVENT
DTSTART;TZID=America/Toronto:20241125T163000
DTEND;TZID=America/Toronto:20241125T190000
DTSTAMP:20260420T110553
CREATED:20241029T191119Z
LAST-MODIFIED:20241029T191119Z
UID:22501-1732552200-1732561200@www.syndicatchamplain.com
SUMMARY:Rencontre d'information pour les enseignants à statut précaire et les stagiaires du CSSP
DESCRIPTION:
URL:https://www.syndicatchamplain.com/event/rencontre-dinformation-pour-les-enseignants-a-statut-precaire-et-les-stagiaires-du-cssp/
LOCATION:Syndicat de Champlain\, 7500\, chemin de Chambly\, Saint-Hubert\, Québec\, J3Y 3S6\, Canada
CATEGORIES:Formation
ATTACH;FMTTYPE=image/jpeg:https://www.syndicatchamplain.com/wp-content/uploads/2024/10/Web-341.jpg
END:VEVENT
END:VCALENDAR