BEGIN:VCALENDAR
VERSION:2.0
PRODID:-//Syndicat de Champlain - ECPv5.14.0.4//NONSGML v1.0//EN
CALSCALE:GREGORIAN
METHOD:PUBLISH
X-WR-CALNAME:Syndicat de Champlain
X-ORIGINAL-URL:https://www.syndicatchamplain.com
X-WR-CALDESC:évènements pour Syndicat de Champlain
BEGIN:VTIMEZONE
TZID:America/Toronto
BEGIN:DAYLIGHT
TZOFFSETFROM:-0500
TZOFFSETTO:-0400
TZNAME:EDT
DTSTART:20250309T070000
END:DAYLIGHT
BEGIN:STANDARD
TZOFFSETFROM:-0400
TZOFFSETTO:-0500
TZNAME:EST
DTSTART:20251102T060000
END:STANDARD
END:VTIMEZONE
BEGIN:VEVENT
DTSTART;TZID=America/Toronto:20250424T163000
DTEND;TZID=America/Toronto:20250424T183000
DTSTAMP:20260421T012513
CREATED:20250212T182349Z
LAST-MODIFIED:20250212T182349Z
UID:23332-1745512200-1745519400@www.syndicatchamplain.com
SUMMARY:Rencontre d'information sur les droits parentaux
DESCRIPTION:
URL:https://www.syndicatchamplain.com/event/rencontre-dinformation-sur-les-droits-parentaux-9/
LOCATION:Visioconférence\, Canada
CATEGORIES:Formation
END:VEVENT
END:VCALENDAR